Workbook
Name Empresas: EMPRESAS!$A$1:$M$529
Name Empresas: #REF!
Name Empresas: #REF!
Name Empresas: #REF!
Name INDICE: #REF!
Name INDICE: #REF!
Name INDICE: #REF!
Name TABLA: #REF!

Sheet ÍNDICE DE TABLAS
B2: En este archivo se encuentra a disposición del público la información sobre las empresas incluidas en el ámbito de aplicación del Real Decreto 117/2003, de 31 de enero sobre limitación de emisiones de compuestos orgánicos volátiles debidas al uso de disolventes en determinadas actividades, que gestiona el Área de Calidad Atmosférica de la Comunidad de Madrid. Para mayor información pueden dirigirse a la siguiente dirección: | L2: Consejería de Medio Ambiente, Agricultura e Interior Dirección General de Transición Energética y Economía Circular Área de Calidad Atmosférica C/Alcalá 16, 3ª Planta 28014 Madrid
B5: HOJA DE "EMPRESAS" | L5: Anexo II del Real Decreto 117/2003
B6: Fecha de actualización de datos | C6: 45685 | K6: Epígrafe | L6: Actividad (umbral de consumo de disolvente en t/año)
B7: Contenido | C7: Empresas dadas de alta en el Registro de Instalaciones Emisoras de Compuestos Orgánicos Volátiles hasta diciembre de 2024 y las que han causado baja en 2024 y por tanto tienen obligación de presentación de PGD 2024 o bien empresas dadas de alta en 2025, pero que han notificado PGD correspondientes en 2024. | K7: 1 | L7: Impresión en Offset de bobinas por calor (> 15).
B8: N_Registro | C8: Nº de Registro de Instalaciones Emisoras de Compuestos Orgánicos Volátiles | K8: 2 | L8: Rotograbado de publicaciones (> 25).
B9: Nº APCA | C9: Nº de autorización o notificación como actividad potencialmente contaminadora de la atmósfera, según Real Decreto 100/2011 | K9: 3 | L9: Otras unidades de rotograbado, flexografía, impresión serigráfica rotativa, laminado o barnizado (> 15), impresión serigráfica rotativa sobre textil o en cartón/cartulina (> 30).
B10: Epigrafe | C10: Nº epígrafe del Anexo II del Real Decreto 117/2003 | G10: Ver epígrafes | K10: 4 | L10: Limpieza de superficies utilizando compuestos especificados en el apartado 1 del artículo 5 (> 1).
K11: 5 | L11: Otra limpieza de superficies (> 2).
K12: 6 | L12: Recubrimiento de vehículos (< 15) y renovación del acabado de vehículos.
B13: HOJA DE "DATOS INDUSTRIAS 2024" | K13: 7 | L13: Recubrimiento de bobinas (> 25).
B14: Fecha de actualización de datos | C14: 45704 | K14: 8 | L14: Otros tipos de recubrimiento, incluido el recubrimiento de metal, plástico, textil (5), tejidos, películas y papel (> 5).
B15: Contenido | C15: Empresas distintas al epígrafe 11 que han reportado información anual relativa al 2024 según las obligaciones del Real Decreto 117/2003 | K15: 9 | L15: Recubrimiento de alambre de bobinas (> 5).
B16: N_Registro | C16: Nº de Registro de Instalaciones Emisoras de Compuestos Orgánicos Volátiles | K16: 10 | L16: Recubrimiento de madera (>15).
B17: Nº APCA | C17: Nº de autorización o notificación como actividad potencialmente contaminadora de la atmósfera, según Real Decreto 100/2011 | K17: 11 | L17: Limpieza en seco.
B18: Epigrafe | C18: Nº epígrafe del Anexo II del Real Decreto 117/2003 | G18: Ver epígrafes | K18: 12 | L18: Impregnación de fibras de madera (>25).
K19: 13 | L19: Recubrimiento de cuero (> 10).
K20: 14 | L20: Fabricación de calzado (> 5).
B21: HOJA DE "DATOS TINTORERÍAS 2024" | K21: 15 | L21: Laminación de madera y plástico (> 5).
B22: Fecha de actualización de datos | C22: 45704 | K22: 16 | L22: Recubrimiento con adhesivos (>5).
B23: Contenido | C23: Empresas del epígrafe 11 que han reportado información anual relativa al 2024 según las obligaciones del Real Decreto 117/2003 | K23: 17 | L23: Fabricación de mezclas de recubrimientos, barnices, tintas y adhesivos (>100).
B24: N_Registro | C24: nº de Registro de Instalaciones Emisoras de Compuestos Orgánicos Volátiles | K24: 18 | L24: Conversión de caucho (>15).
B25: Nº APCA | C25: Nº de autorización o notificación como actividad potencialmente contaminadora de la atmósfera, según Real Decreto 100/2011 | K25: 19 | L25: Extracción de aceite vegetal y grasa animal y actividades de refinado de aceite vegetal (> 10).
B26: Epigrafe | C26: Nº epígrafe del Anexo II del Real Decreto 117/2003 | G26: Ver epígrafes | K26: 20 | L26: Fabricación de productos farmacéuticos (> 50).
B29: Notas acerca de la legislación:
B30: Todas las referencias a: | C30: se entienden hechas a:
B31: Real Decreto 117/2003 | C31: Real Decreto 117/2003, de 31 de enero, sobre limitación de emisiones de compuestos orgánicos volátiles debidas al uso de disolventes en determinadas actividades.
B32: Real Decreto 100/2011 | C32: Real Decreto 100/2011, de 28 de enero, por el que se actualiza el catálogo de actividades potencialmente contaminadoras de la atmósfera y se establecen las disposiciones básicas para su aplicación.

Sheet EMPRESAS
A1: N_Registro | B1: CNAE | C1: Epigrafe | D1: R_Social | E1: Via | F1: Calle | G1: Numero | H1: CP | I1: Municipio | J1: EsBaja | K1: MotivoBaja | L1: FechaBaja | M1: CIF
A2: 10-RCOV-00001.1/2010 | B2: 2533 | C2: 17 | D2: REVESTIMIENTOS INDUSTRIALES, S.A. | E2: Calle | F2: POLVORIN | G2: 8 | H2: 28860 | I2: PARACUELLOS DEL JARAMA | J2: FALSE | M2: A28448058
A3: 10-RCOV-00001.1/2013 | B3: 93 | C3: 11 | D3: TINTORERÍA ALMA | E3: Calle | F3: ALFONSO XII | G3: 8 | H3: 28934 | I3: MÓSTOLES | J3: FALSE | M3: 20250585M
A4: 10-RCOV-00001.1/2016 | B4: 22220 | C4: 3 | D4: INTRAPAPEL, S.A. | E4: Carretera | F4: M-108 | G4: KM 5,6 | H4: 28864 | I4: AJALVIR | J4: FALSE | M4: A28614832
A5: 10-RCOV-00001.2/2022 | B5: 31620 | C5: 8 | D5: SIDERÚRGICA REQUENA, S.A. | E5: Calle | F5: EDUARDO BARREIROS | G5: 116 | H5: 28041 | I5: MADRID | J5: FALSE | M5: A28010338
A6: 10-RCOV-00001.3/2009 | B6: 9301 | C6: 11 | D6: TINTORERÍA EL BARCO ALCORCÓN, C.B. | E6: Calle | F6: TIMANFAYA | G6: 32 | H6: 28924 | I6: ALCORCÓN | J6: FALSE | M6: E85638450
A7: 10-RCOV-00001.4/2012 | B7: 9301 | C7: 11 | D7: STARTEAMSEC, S.L. | E7: Calle | F7: ANDRES MELLADO | G7: 47 | H7: 28015 | I7: MADRID | J7: FALSE | M7: B85913366
A8: 10-RCOV-00001.4/2015 | B8: 9301 | C8: 11 | D8: TINTE SAIGÓN | E8: Calle | F8: TUTOR | G8: 51 | H8: 28008 | I8: MADRID | J8: FALSE | M8: 5740705Z
A9: 10-RCOV-00001.4/2018 | B9: 9301 | C9: 11 | D9: TINTORERÍA ALCALÁ | E9: Calle | F9: AÑASTRO | G9: 13 | H9: 28033 | I9: MADRID | J9: FALSE | M9: 51631177H
A10: 10-RCOV-00001.5/2021 | B10: 9301 | C10: 11 | D10: SERVICIOS INTEGRALES LÓPEZ BUA, S.L. (TINTORERÍA ELITE-C) | E10: Calle | F10: DE ALONSO CANO | G10: 8 | H10: 28010 | I10: MADRID | J10: FALSE | M10: B85414514
A11: 10-RCOV-00001.7/2017 | B11: 9301 | C11: 11 | D11: COMERCIAL HOSTELERA DEL HENARES SL | E11: Carretera | F11: N I BURGOS | G11: KM 19 | H11: 28700 | I11: SAN SEBASTIÁN DE LOS REYES | J11: FALSE | M11: B19180694
A12: 10-RCOV-00001.8/2020 | B12: 9301 | C12: 11 | D12: TINTORERÍA Q-SEC ( MONTECHECO S.L) | E12: Calle | F12: DEL IDIOMA ESPERANTO | G12: 2 | H12: 28017 | I12: MADRID | J12: FALSE | M12: E87108551
A13: 10-RCOV-00001.8/2023 | B13: 9301 | C13: 11 | D13: TINTORERIA NINES | E13: Avenida | F13: DE JUAN CARLOS I | G13: 1 | H13: 28905 | I13: GETAFE | J13: FALSE | M13: 52183084V
... A16: 10-RCOV-00002.2/2016 | B16: 22220 | C16: 1 | D16: MONTERREINA COMUNICACIÓN, S.L.U. | E16: Calle | F16: CABO GATA | G16: 1 | H16: 28320 | I16: PINTO | J16: FALSE | M16: B84985472
A17: 10-RCOV-00002.2/2019 | B17: 25241 | C17: 3 | D17: INNOVACIONES PLASTICAS, S.A. | E17: Calle | F17: ALCALDE JUAN DE MATA SEVILLANO | G17: S/N | H17: 28052 | I17: MADRID | J17: TRUE | K17: Cierre | L17: 45559 | M17: A78908159
A18: 10-RCOV-00002.3/2022 | B18: 9301 | C18: 11 | D18: TINTORERÍA 5 A SEC | E18: Calle | F18: INFANTE DON LUIS | G18: 15 | H18: 28660 | I18: BOADILLA DEL MONTE | J18: FALSE | M18: 50689699E
A19: 10-RCOV-00002.4/2009 | B19: 9301 | C19: 11 | D19: TINTORERÍA TREBOL | E19: Calle | F19: BENAVENTE | G19: 8 | H19: 28220 | I19: MAJADAHONDA | J19: FALSE | M19: X0882540F
A20: 10-RCOV-00002.5/2012 | B20: 9301 | C20: 11 | D20: TINTORERÍA ANCORA | E20: Calle | F20: ANCORA | G20: 4 | H20: 28004 | I20: MADRID | J20: FALSE | M20: 02673077V
A21: 10-RCOV-00002.5/2015 | B21: 9301 | C21: 11 | D21: TINTORERÍA AZTECA | E21: Camino | F21: DOCTOR CASTELO | G21: 34 | H21: 28009 | I21: MADRID | J21: FALSE | M21: B8547729
A22: 10-RCOV-00002.5/2018 | B22: 9301 | C22: 11 | D22: TINTE ESPADA | E22: Avenida | F22: NUESTRA SEÑORA VALVANERA | G22: 90 | H22: 28025 | I22: MADRID | J22: FALSE | M22: 05390458V
A23: 10-RCOV-00002.6/2021 | B23: 9301 | C23: 11 | D23: MIRIAM CEACERO RODRIGUEZ (TINTORERÍA PREVI) | E23: Calle | F23: JOSE RIZAL | G23: 51 | H23: 28043 | I23: MADRID | J23: FALSE | M23: 51093152D
A24: 10-RCOV-00002.7/2008 | B24: 9301 | C24: 11 | D24: PIESKO PROYECTOS S.L. | E24: Calle | F24: GROENLANDIA | G24: S/N | H24: 28909 | I24: GETAFE | J24: FALSE | M24: B84324052
A25: 10-RCOV-00002.8/2017 | B25: 9301 | C25: 11 | D25: COMERCIAL HOSTELERA DEL HENARES SL | E25: Avenida | F25: LABRADORES | G25: 9 | H25: 28760 | I25: TRES CANTOS | J25: FALSE | M25: B19180694
A26: 10-RCOV-00003.0/2017 | B26: 9301 | C26: 11 | D26: TINTORERÍA IRIS (JAVAGA&JAVAGA) | E26: Avenida | F26: MAR MEDITERRÁNEO | G26: 3 | H26: 28341 | I26: VALDEMORO | J26: FALSE | M26: b86643012
A27: 10-RCOV-00003.1/2020 | B27: 35300 | C27: 5 | D27: ACITURRI GETAFE, S.L. | E27: Calle | F27: HERMANOS LUMIERE | G27: 16 | H27: 28906 | I27: GETAFE | J27: FALSE | M27: B88284211
A28: 10-RCOV-00003.1/2023 | B28: 9301 | C28: 11 | D28: GRUPO BEMBI BUSSINESS S.L. | E28: Camino | F28: DEL CURA | G28: 10 | H28: 28100 | I28: ALCOBENDAS | J28: FALSE | M28: B02851103
A29: 10-RCOV-00003.3/2016 | B29: 28510 | C29: 8 | D29: TRANSFORMADOS AGADÍN, S.L. | E29: Camino | F29: DE TORREJÓN | G29: S/N | H29: 28978 | I29: CUBAS DE LA SAGRA | J29: FALSE | M29: B81176117
... A37: 10-RCOV-00004.2/2023 | B37: 9301 | C37: 11 | D37: TINTORERÍA EUROPA SEC | E37: Carretera | F37: ARGANDA | G37: 44 | H37: 28005 | I37: MADRID | J37: FALSE | M37: Y0124529K
A38: 10-RCOV-00004.4/2013 | B38: 361 | C38: 15 | D38: CARPINTERÍA Y LACADOS ESCOLAR, S.L. | E38: Calle | F38: SIERRA DE GUADARRAMA | G38: 42 | H38: 28500 | I38: ARGANDA DEL REY | J38: TRUE | K38: Seguimiento consumo voluntario | L38: 42762 | M38: 50208134P
A39: 10-RCOV-00004.4/2019 | B39: 2030 | C39: 17 | D39: REVOCOAT IBERICA, S.L.U. | E39: Camino | F39: DEL CORRAL | G39: 17 | H39: 28816 | I39: CAMARMA DE ESTERUELAS | J39: FALSE | M39: B85603934
A40: 10-RCOV-00004.5/2022 | B40: 9301 | C40: 11 | D40: TINTORERÍA EUROPA | E40: Calle | F40: FRANCOS RODRIGUEZ | G40: 37 | H40: 28039 | I40: MADRID | J40: FALSE | M40: 52122545Z
A41: 10-RCOV-00004.7/2015 | B41: 9301 | C41: 11 | D41: ELÍAS LEÓN TELLEZ - TINOTRERÍA ELLES | E41: Calle | F41: PIZARRO | G41: 5 | H41: 28911 | I41: LEGANÉS | J41: FALSE | M41: 11772945G
A42: 10-RCOV-00004.7/2018 | B42: 9301 | C42: 11 | D42: TINTORERÍA PUERTA DE HIERRO | E42: Calle | F42: ISLAS MARSHALL (C/V JOAQUIN LORENZO) | G42: 1 | H42: 28035 | I42: MADRID | J42: TRUE | K42: Cambio titularidad | L42: 45750 | M42: X5565712B
A43: 10-RCOV-00004.8/2021 | B43: 9301 | C43: 11 | D43: ZIMALEX, S.L. | E43: Calle | F43: ALCÁNTARA | G43: 34 | H43: 28006 | I43: MADRID | J43: FALSE | M43: B88476858
A44: 10-RCOV-00005.0/2021 | B44: 9301 | C44: 11 | D44: TINTORERÍA VALENCIA | E44: Plaza | F44: MAYOR | G44: 3 | H44: 28850 | I44: TORREJÓN DE ARDOZ | J44: FALSE | M44: 05258437Q
A45: 10-RCOV-00005.1/2008 | B45: 361 | C45: 5 | D45: AF STEELCASE, S.A. | E45: Calle | F45: ANTONIO LÓPEZ | G45: 243 | H45: 28041 | I45: MADRID | J45: TRUE | K45: Seguimiento consumo voluntario | L45: 41047 | M45: A78939576
A46: 10-RCOV-00005.2/2017 | B46: 9301 | C46: 11 | D46: JJC LAVANDERÍA (FIORELLA GRACE MEZA ZEÑA) | E46: Calle | F46: SANCHO DÁVILA | G46: 17 | H46: 28028 | I46: MADRID | J46: FALSE | M46: 02288060C
A47: 10-RCOV-00005.3/2023 | B47: 9301 | C47: 11 | D47: LA TINTORERÍA | E47: Calle | F47: COBOS DE SEGOVIA | G47: 19 | H47: 28005 | I47: MADRID | J47: FALSE | M47: Y0124529K
A48: 10-RCOV-00005.5/2010 | B48: 9301 | C48: 11 | D48: ENCARNACIÓN ARIAS FERNÁNDEZ | E48: Calle | F48: VILLARDONDIEGO | G48: 19 | H48: 28032 | I48: MADRID | J48: TRUE | K48: Cambio titularidad | L48: 45728 | M48: 34534665g
A49: 10-RCOV-00005.5/2013 | B49: 93 | C49: 11 | D49: SAN ANTONIO 18, S.L. | E49: Paseo | F49: ACACIAS | G49: 24 | H49: 28005 | I49: MADRID | J49: FALSE | M49: B80976897
...

Sheet Sheet1
A1: EXPEDIENTE | B1: NUM_INSCRIPCION | C1: CDESTADO | D1: ID_CENTRO | E1: NUM_CENTRO | F1: NOM_CENTRO | G1: OBSERVACIONES | H1: ID_INTERESADO | I1: CD_ANOSCIA | J1: NM_SCIA | K1: IDALTA | L1: IDMODI | M1: NM_NIMA | N1: DS_ACTIVIDAD | O1: FCBAJA | P1: DSBAJA | Q1: ID_CENTRO_TITULAR | R1: ID_REL_CENT_DIR | S1: ID_CENTRO | T1: ID_DIRECCION | U1: IDALTA | V1: IDMODI | W1: ID_DIRECCION | X1: TIPO_DIRECCION | Y1: CDVIA | Z1: NUM_VIA | AA1: NOM_VIA | AB1: POLIGONO | AC1: ESCALERA | AD1: PISO | AE1: PUERTA | AF1: CDLOCALIDAD | AG1: CDPROVINCIA | AH1: CP | AI1: TELF1 | AJ1: TELF2 | AK1: MOVIL | AL1: FAX | AM1: EMAIL1 | AN1: ID_INTERESADO | AO1: CDMUNI | AP1: CDVIAL | AQ1: CDTPNUM | AR1: DSNMPORTAL | AS1: DSCALNUM | AT1: COORX | AU1: COORY | AV1: CD_VIA | AW1: VALIDACION_SUCA | AX1: OBSERVACIONES | AY1: IDALTA | AZ1: IDMODI | BA1: ID_PAIS | BB1: WEB | BC1: IT_SEDE_SOCIAL | BD1: DS_PROVINCIA_E | BE1: DS_MUNI_E | BF1: DS_DPOSTAL_E | BG1: IDBAJA | BH1: FCALTA | BI1: FCMODI | BJ1: FCBAJA | BK1: ID_INTERESADO | BL1: IDENTIFICADOR | BM1: NOMBRE | BN1: TIPO_INTERESADO | BO1: APELLIDO1 | BP1: APELLIDO2 | BQ1: RSOCIAL | BR1: ORGANISMO | BS1: FECHA_ALTA | BT1: FECHA_BAJA | BU1: NOTIF_ELECTRONICA | BV1: CIF_ANTERIOR | BW1: IDALTA | BX1: ID_IDENTIFICADOR | BY1: ID_ORGANISMO | BZ1: IDMODI | CA1: CD_T_SOCIETARIO | CB1: IDBAJA | CC1: FCALTA | CD1: FCMODI | CE1: FCBAJA | CF1: DSBAJA | CG1: OBSERVACIONES | CH1: CDPAIS | CI1: CDPROV | CJ1: CDMUNI | CK1: DSMUNI | CL1: NMPROV | CM1: NMMUNI | CN1: CDMUNI_DG_CONTROL | CO1: DSMUNI_PRES | CP1: DSMUNINORMA | CQ1: CDMUNI_AEAT
A2: 10-RCOV-00417.2/2007 | B2: 28-APCA-N-2014/00594 | C2: I | D2: 27329 | E2: 2 | F2: JUAN CARLOS GARCIA IZQUIERDO | H2: 2359 | I2: 2013 | J2: 165 | K2: EGM40 | L2: PCEAETER | M2: 2800027329 | N2: - | R2: 27174 | S2: 27329 | T2: 49520 | U2: EGM40 | V2: EGM40 | W2: 49520 | Z2: 11 | AA2: BUTARQUE | AF2: 74 | AG2: 28 | AH2: 28911 | AI2: 916802355 | AN2: 2359 | AO2: 074 | AP2: CALLE | AQ2: P | AT2: 434934 | AU2: 4464754 | AV2: 074A0063 | AW2: S | AY2: EGM40 | AZ2: CARGACV | BA2: ESP | BC2: N | BI2: 42531.47 | BK2: 2359 | BL2: 50079430N | BM2: JUAN CARLOS | BN2: 1 | BO2: GARCIA | BP2: IZQUIERDO | BQ2: GARCIA IZQUIERDO, JUAN CARLOS | BS2: 37425 | BU2: 0 | BW2: PRUEBAS6 | BX2: 2 | BZ2: PCEAETER | CA2: 99 | CC2: 39785.71 | CD2: 41339.558 | CH2: ESP | CI2: 28 | CJ2: 074 | CK2: Leganés | CL2: 28 | CM2: 74 | CN2: 0745 | CO2: Leganés | CP2: LEGANÉS | CQ2: 074
A3: 10-RCOV-00414.8/2007 | B3: 28-APCA-N-2014/00592 | C3: I | D3: 2249 | E3: 1 | F3: JUAN CARLOS GARCIA IZQUIERDO | G3: ACTIVIDAD : LAVADO, LIMPIEZA Y TEÑIDO DE PRENDAS TEXTILES Y DE PIEL RESPONSABLE : JUAN CARLOS GARCIA IZQUIERDO DESCRIPCION : Tinte, limpieza en seco, lavado y planchado de ropas hechas y de prendas y artículos del hogar usados | H3: 2359 | I3: 2013 | J3: 145 | L3: JBS37 | M3: 2800002249 | N3: LAVADO, LIMPIEZA Y TEÑIDO DE PRENDAS TEXTILES Y DE PIEL. TINTE, LIMPIEZA EN SECO, LAVADO Y PLANCHADO DE ROPAS HECHAS Y DE PRENDAS Y ARTÍCULOS DEL HOGAR USADOS | O3: 42825 | P3: CESE ACTIVIDAD (10-RESI-1853.2/2017) | R3: 2249 | S3: 2249 | T3: 4612 | W3: 4612 | Z3: 2 | AA3: DE GALIANA | AF3: 79 | AG3: 28 | AH3: 28011 | AI3: 914636443 | AL3: 914795674 | AN3: 2359 | AO3: 079 | AP3: CALLE | AQ3: P | AT3: 437904 | AU3: 4473532 | AV3: 07902434 | AW3: S | AZ3: CARGACV | BA3: ESP | BC3: N | BI3: 42530.458 | BK3: 2359 | BL3: 50079430N | BM3: JUAN CARLOS | BN3: 1 | BO3: GARCIA | BP3: IZQUIERDO | BQ3: GARCIA IZQUIERDO, JUAN CARLOS | BS3: 37425 | BU3: 0 | BW3: PRUEBAS6 | BX3: 2 | BZ3: PCEAETER | CA3: 99 | CC3: 39785.71 | CD3: 41339.558 | CH3: ESP | CI3: 28 | CJ3: 079 | CK3: Madrid | CL3: 28 | CM3: 79 | CN3: 0796 | CO3: Madrid | CP3: MADRID | CQ3: 900
A4: 10-RCOV-00464.0/2007 | B4: 28-APCA-N-2014/00699 | C4: I | D4: 30987 | E4: 4 | F4: TINTE LEGANES | H4: 2359 | I4: 2013 | J4: 146 | K4: ABH9 | L4: PCEAETER | M4: 2800030987 | N4: - | R4: 27175 | S4: 30987 | T4: 54330 | U4: EGM40 | V4: EGM40 | W4: 54330 | Z4: 71 | AA4: DE EXTREMADURA | AF4: 79 | AG4: 28 | AH4: 28011 | AI4: 914636443 | AN4: 2359 | AO4: 079 | AP4: PASEO | AQ4: P | AT4: 437856 | AU4: 4473750 | AV4: 07902110 | AW4: S | AY4: ABH9 | AZ4: CARGACV | BA4: ESP | BC4: S | BI4: 42928 | BK4: 2359 | BL4: 50079430N | BM4: JUAN CARLOS | BN4: 1 | BO4: GARCIA | BP4: IZQUIERDO | BQ4: GARCIA IZQUIERDO, JUAN CARLOS | BS4: 37425 | BU4: 0 | BW4: PRUEBAS6 | BX4: 2 | BZ4: PCEAETER | CA4: 99 | CC4: 39785.71 | CD4: 41339.558 | CH4: ESP | CI4: 28 | CJ4: 079 | CK4: Madrid | CL4: 28 | CM4: 79 | CN4: 0796 | CO4: Madrid | CP4: MADRID | CQ4: 900
A5: 10-RCOV-00021.2/2017 | B5: 28-APCA-N-2018/00049 | C5: I | D5: 2182 | E5: 1 | F5: FRANCISCA PEREZ DIAZ | G5: ACTIVIDAD : LAVADO, LIMPIEZA Y TEÑIDO DE PRENDAS TEXTILES Y DE PIEL RESPONSABLE : DESCRIPCION : Tinte, limpieza en seco, lavado y planchado de ropas hechas y de prendas y artículos del hogar usados | H5: 2290 | L5: PCEAETER | M5: 2800002182 | N5: LAVADO, LIMPIEZA Y TEÑIDO DE PRENDAS TEXTILES Y DE PIEL. TINTE, LIMPIEZA EN SECO, LAVADO Y PLANCHADO DE ROPAS HECHAS Y DE PRENDAS Y ARTÍCULOS DEL HOGAR USADOS | R5: 2182 | S5: 2182 | T5: 4476 | W5: 4476 | Z5: 12 | AA5: DE LA BUENA MADRE | AF5: 113 | AG5: 28 | AH5: 28320 | AI5: 916912496 | AL5: 916361328 | AN5: 2290 | AO5: 113 | AP5: CALLE | AQ5: P | AT5: 440583 | AU5: 4454853 | AV5: 113A0040 | AW5: S | AZ5: CARGACV | BA5: ESP | BC5: S | BI5: 42530.46 | BK5: 2290 | BL5: 50033359X | BM5: FRANCISCA | BN5: 1 | BO5: PEREZ | BP5: DIAZ | BQ5: PEREZ DIAZ, FRANCISCA | BS5: 38420 | BU5: 0 | BW5: PRUEBAS6 | BX5: 2 | BZ5: PCEAETER | CA5: 99 | CC5: 39785.71 | CD5: 41339.558 | CH5: ESP | CI5: 28 | CJ5: 113 | CK5: Pinto | CL5: 28 | CM5: 113 | CN5: 1132 | CO5: Pinto | CP5: PINTO | CQ5: 113
A6: 10-RCOV-00120.6/2007 | B6: 28-APCA-N-2014/00414 | C6: I | D6: 2188 | E6: 1 | F6: J. ANTONIO RODRIGUEZ FDEZ. ( TINTOTERIA ESPADA ) | G6: ACTIVIDAD : LAVADO, LIMPIEZA Y TEÑIDO DE PRENDAS TEXTILES Y DE PIEL RESPONSABLE : JOSE ANTONIO RODRIGUEZ FERNANDEZ DESCRIPCION : Tinte, limpieza en seco, lavado y planchado de ropas hechas y de prendas y artículos del hogar usados | H6: 2296 | L6: PCEAETER | M6: 2800002188 | N6: LAVADO, LIMPIEZA Y TEÑIDO DE PRENDAS TEXTILES Y DE PIEL . TINTE, LIMPIEZA EN SECO, LAVADO Y PLANCHADO DE ROPAS HECHAS Y DE PRENDAS Y ARTÍCULOS DEL HOGAR USADOS | R6: 2188 | S6: 2188 | T6: 4488 | W6: 4488 | Z6: 90 | AA6: DE NUESTRA SEÑORA DE VALVANERA | AF6: 79 | AG6: 28 | AH6: 28019 | AI6: 914610891 | AL6: 914655875 | AN6: 2296 | AO6: 079 | AP6: AVDA | AQ6: P | AT6: 437412 | AU6: 4471455 | AV6: 07907787 | AW6: S | AZ6: CARGACV | BA6: ESP | BC6: S | BI6: 42530.46 | BK6: 2296 | BL6: 50039043J | BM6: J. ANTONIO | BN6: 1 | BO6: RODRIGUEZ | BP6: FERNÁNDEZ | BQ6: RODRIGUEZ FERNÁNDEZ, J. ANTONIO | BS6: 37581 | BU6: 0 | BW6: PRUEBAS6 | BX6: 2 | BZ6: PCEAETER | CA6: 99 | CC6: 39785.71 | CD6: 41339.558 | CH6: ESP | CI6: 28 | CJ6: 079 | CK6: Madrid | CL6: 28 | CM6: 79 | CN6: 0796 | CO6: Madrid | CP6: MADRID | CQ6: 900
A7: 10-RCOV-00017.3/2018 | B7: 28-APCA-N-2018/00041 | C7: I | D7: 1813 | E7: 1 | F7: MANUEL FERNANDEZ DIEGUEZ (TINTE RAPI-SECO) | G7: ACTIVIDAD : LIMPIEZA EN SECO DE PRENDAS TEXTILES RESPONSABLE : MANUEL FERNANDEZ DIEGUEZ DESCRIPCION : Tinte, limpieza en seco, lavado y planchado de ropas hechas y de prendas y artículos del hogar usados | H7: 1946 | L7: BENGOA | M7: 2800001813 | N7: LIMPIEZA EN SECO DE PRENDAS TEXTILES. TINTE, LIMPIEZA EN SECO, LAVADO Y PLANCHADO DE ROPAS HECHAS Y DE PRENDAS Y ARTÍCULOS DEL HOGAR USADOS | R7: 1813 | S7: 1813 | T7: 3763 | W7: 3763 | Z7: 19 | AA7: M-502 (CARABANCHEL) | AF7: 115 | AG7: 28 | AH7: 28223 | AI7: 915333149 | AL7: 9791053 | AN7: 1946 | AO7: 115 | AP7: CTRA | AQ7: P | AS7: 0 | AT7: 431039 | AU7: 4476262 | AV7: 115A0131 | AW7: S | AZ7: CARGACV | BA7: ESP | BC7: N | BI7: 43420 | BK7: 1946 | BL7: 35946221G | BM7: MANUEL | BN7: 1 | BO7: FERNANDEZ | BP7: DIEGUEZ | BQ7: FERNANDEZ DIEGUEZ, MANUEL | BS7: 36161 | BU7: 0 | BW7: PRUEBAS6 | BX7: 2 | BZ7: PCEAETER | CA7: 99 | CC7: 39785.71 | CD7: 41339.564 | CH7: ESP | CI7: 28 | CJ7: 115 | CK7: Pozuelo de Alarcón | CL7: 28 | CM7: 115 | CN7: 1150 | CO7: Pozuelo de Alarcón | CP7: POZUELO ALARCÓN | CQ7: 115
A8: 10-RCOV-00018.4/2018 | B8: 28-APCA-N-2014/00366 | C8: I | D8: 63893 | E8: 2 | F8: MANUEL FERNANDEZ DIEGUEZ (TINTE RAPI-SECO) | H8: 1946 | K8: MBU0 | L8: PCEAETER | M8: 2800063893 | N8: - | R8: 66420 | S8: 63893 | T8: 53131 | U8: MBU0 | V8: 03/11/09 | W8: 53131 | Z8: 35 | AA8: DE GAZTAMBIDE | AF8: 79 | AG8: 28 | AH8: 28015 | AI8: 636166161 | AJ8: 636166161 | AN8: 1946 | AO8: 079 | AP8: CALLE | AQ8: P | AT8: 439298 | AU8: 4476172 | AV8: 07902483 | AW8: S | AY8: ABH9 | AZ8: CARGACV | BA8: ESP | BC8: N | BI8: 42531.488 | BK8: 1946 | BL8: 35946221G | BM8: MANUEL | BN8: 1 | BO8: FERNANDEZ | BP8: DIEGUEZ | BQ8: FERNANDEZ DIEGUEZ, MANUEL | BS8: 36161 | BU8: 0 | BW8: PRUEBAS6 | BX8: 2 | BZ8: PCEAETER | CA8: 99 | CC8: 39785.71 | CD8: 41339.564 | CH8: ESP | CI8: 28 | CJ8: 079 | CK8: Madrid | CL8: 28 | CM8: 79 | CN8: 0796 | CO8: Madrid | CP8: MADRID | CQ8: 900
A9: 10-RCOV-00062.4/2007 | B9: 28-APCA-N-2014/00366 | C9: I | D9: 63893 | E9: 2 | F9: MANUEL FERNANDEZ DIEGUEZ (TINTE RAPI-SECO) | H9: 1946 | K9: MBU0 | L9: PCEAETER | M9: 2800063893 | N9: - | R9: 66420 | S9: 63893 | T9: 53131 | U9: MBU0 | V9: 03/11/09 | W9: 53131 | Z9: 35 | AA9: DE GAZTAMBIDE | AF9: 79 | AG9: 28 | AH9: 28015 | AI9: 636166161 | AJ9: 636166161 | AN9: 1946 | AO9: 079 | AP9: CALLE | AQ9: P | AT9: 439298 | AU9: 4476172 | AV9: 07902483 | AW9: S | AY9: ABH9 | AZ9: CARGACV | BA9: ESP | BC9: N | BI9: 42531.488 | BK9: 1946 | BL9: 35946221G | BM9: MANUEL | BN9: 1 | BO9: FERNANDEZ | BP9: DIEGUEZ | BQ9: FERNANDEZ DIEGUEZ, MANUEL | BS9: 36161 | BU9: 0 | BW9: PRUEBAS6 | BX9: 2 | BZ9: PCEAETER | CA9: 99 | CC9: 39785.71 | CD9: 41339.564 | CH9: ESP | CI9: 28 | CJ9: 079 | CK9: Madrid | CL9: 28 | CM9: 79 | CN9: 0796 | CO9: Madrid | CP9: MADRID | CQ9: 900
A10: 10-RCOV-00064.6/2007 | B10: 28-APCA-N-2014/00370 | C10: I | D10: 1815 | E10: 3 | F10: MANUEL FERNANDEZ DIEGUEZ (TINTE RAPISECO) | G10: ACTIVIDAD : LIMPIEZA EN SECO DE PRENDAS TEXTILES RESPONSABLE : MANUEL FERNANDEZ DIEGUEZ DESCRIPCION : Tinte, limpieza en seco, lavado y planchado de ropas hechas y de prendas y artículos del hogar usados | H10: 1946 | L10: PCEAETER | M10: 2800001815 | N10: LIMPIEZA EN SECO DE PRENDAS TEXTILES. TINTE, LIMPIEZA EN SECO, LAVADO Y PLANCHADO DE ROPAS HECHAS Y DE PRENDAS Y ARTÍCULOS DEL HOGAR USADOS | R10: 1814 | S10: 1815 | T10: 53133 | W10: 53133 | Z10: 76 | AA10: DE VALLEHERMOSO | AF10: 79 | AG10: 28 | AH10: 28015 | AI10: 0 | AJ10: 636166161 | AN10: 1946 | AO10: 079 | AP10: CALLE | AQ10: P | AT10: 439934 | AU10: 4476585 | AV10: 07906239 | AW10: S | AY10: ABH9 | AZ10: CARGACV | BA10: ESP | BC10: N | BI10: 42531.488 | BK10: 1946 | BL10: 35946221G | BM10: MANUEL | BN10: 1 | BO10: FERNANDEZ | BP10: DIEGUEZ | BQ10: FERNANDEZ DIEGUEZ, MANUEL | BS10: 36161 | BU10: 0 | BW10: PRUEBAS6 | BX10: 2 | BZ10: PCEAETER | CA10: 99 | CC10: 39785.71 | CD10: 41339.564 | CH10: ESP | CI10: 28 | CJ10: 079 | CK10: Madrid | CL10: 28 | CM10: 79 | CN10: 0796 | CO10: Madrid | CP10: MADRID | CQ10: 900
A11: 10-RCOV-00335.1/2007 | B11: 28-APCA-N-2014/00544 | C11: I | D11: 1757 | E11: 1 | F11: JOSE BLANCO BLANCO | G11: ACTIVIDAD : LIMPIEZA DE PRENDAS TEXTILES RESPONSABLE : JOSE BLANCO BLANCO DESCRIPCION : Tinte, limpieza en seco, lavado y planchado de ropas hechas y de prendas y artículos del hogar usados | H11: 1889 | L11: E_JCG129 | M11: 2800001757 | N11: LIMPIEZA DE PRENDAS TEXTILES. TINTE, LIMPIEZA EN SECO, LAVADO Y PLANCHADO DE ROPAS HECHAS Y DE PRENDAS Y ARTÍCULOS DEL HOGAR USADOS | R11: 1757 | S11: 1757 | T11: 3650 | W11: 3650 | Z11: 20 | AA11: DE EDUARDO MORALES | AF11: 79 | AG11: 28 | AH11: 28025 | AI11: 914622401 | AL11: 918885348 | AN11: 1889 | AO11: 079 | AP11: CALLE | AQ11: P | AT11: 437407 | AU11: 4471137 | AV11: 07901881 | AW11: S | AZ11: CARGACV | BA11: ESP | BC11: S | BI11: 42530.695 | BK11: 1889 | BL11: 34586058S | BM11: JOSE | BN11: 1 | BO11: BLANCO | BP11: BLANCO | BQ11: BLANCO BLANCO, JOSE | BS11: 36850 | BU11: 0 | BW11: PRUEBAS6 | BX11: 2 | BZ11: PCEAETER | CA11: 99 | CC11: 39785.71 | CD11: 41339.564 | CH11: ESP | CI11: 28 | CJ11: 079 | CK11: Madrid | CL11: 28 | CM11: 79 | CN11: 0796 | CO11: Madrid | CP11: MADRID | CQ11: 900
A12: 10-RCOV-00376.1/2007 | B12: 28-APCA-N-2014/00573 | C12: I | D12: 1759 | E12: 1 | F12: LAUREANO RODRIGUEZ RODRIGUEZ | G12: ACTIVIDAD : LIMPIEZA EN SECO DE PRENDAS TEXTILES RESPONSABLE : LAUREANO RODRIGUEZ RODRIGUEZ DESCRIPCION : | H12: 1891 | L12: PCEAETER | M12: 2800001759 | N12: LIMPIEZA EN SECO DE PRENDAS TEXTILES. | R12: 1759 | S12: 1759 | T12: 3654 | W12: 3654 | Z12: 6 | AA12: DE PALOMARES | AF12: 79 | AG12: 28 | AH12: 28021 | AI12: 917984645 | AL12: 918885348 | AN12: 1891 | AO12: 079 | AP12: TRVA | AQ12: P | AT12: 439773 | AU12: 4466532 | AV12: 07904512 | AW12: S | AZ12: CARGACV | BA12: ESP | BC12: S | BI12: 42530.695 | BK12: 1891 | BL12: 34590077D | BM12: LAUREANO | BN12: 1 | BO12: RODRIGUEZ | BP12: RODRIGUEZ | BQ12: RODRIGUEZ RODRIGUEZ, LAUREANO | BS12: 36985 | BU12: 0 | BW12: PRUEBAS6 | BX12: 2 | BZ12: PCEAETER | CA12: 99 | CC12: 39785.71 | CD12: 41339.565 | CH12: ESP | CI12: 28 | CJ12: 079 | CK12: Madrid | CL12: 28 | CM12: 79 | CN12: 0796 | CO12: Madrid | CP12: MADRID | CQ12: 900
A13: 10-RCOV-00135.4/2007 | B13: 28-APCA-N-2014/00433 | C13: B | D13: 1761 | E13: 1 | F13: LUIS POUSA BLANCO (TINTE EUROPA) | G13: ACTIVIDAD : LIMPIEZA EN SECO RESPONSABLE : LUIS POUSA BLANCO DESCRIPCION : Tinte, limpieza en seco, lavado y planchado de ropas hechas y de prendas y artículos del hogar usados | H13: 1892 | L13: E_JCG129 | M13: 2800001761 | N13: LIMPIEZA EN SECO. TINTE, LIMPIEZA EN SECO, LAVADO Y PLANCHADO DE ROPAS HECHAS Y DE PRENDAS Y ARTÍCULOS DEL HOGAR USADOS | O13: 42474 | P13: CESE DE ACTIVIDAD | R13: 1761 | S13: 1761 | T13: 3657 | W13: 3657 | Z13: 37 | AA13: DE FRANCOS RODRÍGUEZ | AF13: 79 | AG13: 28 | AH13: 28039 | AI13: 913112973 | AL13: 918885348 | AN13: 1892 | AO13: 079 | AP13: CALLE | AQ13: P | AT13: 440062 | AU13: 4478666 | AV13: 07902349 | AW13: S | AZ13: CARGACV | BA13: ESP | BC13: S | BI13: 42530.695 | BK13: 1892 | BL13: 34593259V | BM13: LUIS | BN13: 1 | BO13: POUSA | BP13: BLANCO | BQ13: POUSA BLANCO, LUIS | BS13: 36319 | BU13: 0 | BW13: PRUEBAS6 | BX13: 2 | BZ13: PCEAETER | CA13: 99 | CC13: 39785.71 | CD13: 41339.565 | CH13: ESP | CI13: 28 | CJ13: 079 | CK13: Madrid | CL13: 28 | CM13: 79 | CN13: 0796 | CO13: Madrid | CP13: MADRID | CQ13: 900
A14: 10-RCOV-00177.5/2007 | B14: 28-APCA-N-2014/00471 | C14: I | D14: 1765 | E14: 1 | F14: ANTONIO MOCIÑO MENDEZ (TINTORERIA MOCIÑO) | G14: ACTIVIDAD : LIMPIEZA EN SECO DE PRENDAS TEXTILES Y DE PIEL RESPONSABLE : ANTONIO MOCIÑO MENDEZ DESCRIPCION : Tinte, limpieza en seco, lavado y planchado de ropas hechas y de prendas y artículos del hogar usados | H14: 1896 | L14: PCEAETER | M14: 2800001765 | N14: LIMPIEZA EN SECO DE PRENDAS TEXTILES Y DE PIEL. TINTE, LIMPIEZA EN SECO, LAVADO Y PLANCHADO DE ROPAS HECHAS Y DE PRENDAS Y ARTÍCULOS DEL HOGAR USADOS | R14: 1765 | S14: 1765 | T14: 3665 | W14: 3665 | Z14: 297 | AA14: DE BRAVO MURILLO | AF14: 79 | AG14: 28 | AH14: 28020 | AI14: 915708310 | AL14: 918885348 | AN14: 1896 | AO14: 079 | AP14: CALLE | AQ14: P | AT14: 440812 | AU14: 4479230 | AV14: 07900886 | AW14: S | AZ14: CARGACV | BA14: ESP | BC14: S | BI14: 42530.695 | BK14: 1896 | BL14: 34606435Z | BM14: ANTONIO | BN14: 1 | BO14: MOCIÑO | BP14: MENDEZ | BQ14: MOCIÑO MENDEZ, ANTONIO | BS14: 37487 | BU14: 0 | BW14: PRUEBAS6 | BX14: 2 | BZ14: PCEAETER | CA14: 99 | CC14: 39785.71 | CD14: 41339.565 | CH14: ESP | CI14: 28 | CJ14: 079 | CK14: Madrid | CL14: 28 | CM14: 79 | CN14: 0796 | CO14: Madrid | CP14: MADRID | CQ14: 900
A15: 10-RCOV-00127.4/2007 | B15: 28-APCA-N-2014/00428 | C15: I | D15: 1772 | E15: 1 | F15: CELIA HERVELLA RODRIGUEZ (TINTE CASABLANCA) | G15: ACTIVIDAD : LAVADO, LIMPIEZA Y TEÑIDO DE PRENDAS TEXTILES DE PIEL RESPONSABLE : CELIA HERVELLA ROFRIGUEZ DESCRIPCION : Tinte, limpieza en seco, lavado y planchado de ropas hechas y de prendas y artículos del hogar usados | H15: 1903 | I15: 2020 | J15: 239 | L15: PCEAETER | M15: 2800001772 | N15: LAVADO, LIMPIEZA Y TEÑIDO DE PRENDAS TEXTILES DE PIEL. TINTE, LIMPIEZA EN SECO, LAVADO Y PLANCHADO DE ROPAS HECHAS Y DE PRENDAS Y ARTÍCULOS DEL HOGAR USADOS | R15: 1772 | S15: 1772 | T15: 3679 | W15: 3679 | Z15: 51 | AA15: DE CARLOS MARTÍN ÁLVAREZ | AF15: 79 | AG15: 28 | AH15: 28018 | AI15: 914788040 | AL15: 918885348 | AN15: 1903 | AO15: 079 | AP15: CALLE | AQ15: P | AT15: 443526 | AU15: 4470915 | AV15: 07901122 | AW15: S | AZ15: CARGACV | BA15: ESP | BC15: S | BI15: 42530.694 | BK15: 1903 | BL15: 34656863A | BM15: CELIA | BN15: 1 | BO15: HERVELLA | BP15: RODRIGUEZ | BQ15: HERVELLA RODRIGUEZ, CELIA | BS15: 37477 | BU15: 0 | BW15: PRUEBAS6 | BX15: 2 | BZ15: PCEAETER | CA15: 99 | CC15: 39785.71 | CD15: 41339.565 | CH15: ESP | CI15: 28 | CJ15: 079 | CK15: Madrid | CL15: 28 | CM15: 79 | CN15: 0796 | CO15: Madrid | CP15: MADRID | CQ15: 900
A16: 10-RCOV-00405.7/2007 | D16: 30905 | E16: 2 | F16: CELIA HERVELLA RODRIGUEZ (TINT. EL RAPIDO) | H16: 1903 | K16: ECG4 | L16: PCEAETER | M16: 2800030905 | N16: - | R16: 30589 | S16: 30905 | T16: 54207 | U16: ECG4 | V16: ECG4 | W16: 54207 | Z16: 53 | AA16: DE ALEJANDRO SÁNCHEZ | AF16: 79 | AG16: 28 | AH16: 28019 | AI16: 915697384 | AN16: 1903 | AO16: 079 | AP16: CALLE | AQ16: P | AT16: 438766 | AU16: 4471304 | AV16: 07900173 | AW16: S | AY16: ECG4 | AZ16: CARGACV | BA16: ESP | BC16: N | BI16: 42531.494 | BK16: 1903 | BL16: 34656863A | BM16: CELIA | BN16: 1 | BO16: HERVELLA | BP16: RODRIGUEZ | BQ16: HERVELLA RODRIGUEZ, CELIA | BS16: 37477 | BU16: 0 | BW16: PRUEBAS6 | BX16: 2 | BZ16: PCEAETER | CA16: 99 | CC16: 39785.71 | CD16: 41339.565 | CH16: ESP | CI16: 28 | CJ16: 079 | CK16: Madrid | CL16: 28 | CM16: 79 | CN16: 0796 | CO16: Madrid | CP16: MADRID | CQ16: 900
A17: 10-RCOV-00051.1/2007 | D17: 2180 | E17: 1 | F17: JOSEFA RODRIGUEZ FERNANDEZ | G17: ACTIVIDAD : ACTIVIDADES DIVERSAS DE SERVICIOS PERSONALES RESPONSABLE : JOSEFA RODRIGUEZ FERNANDEZ DESCRIPCION : Tinte, limpieza en seco, lavado y planchado de ropas hechas y de prendas y artículos del hogar usados | H17: 2288 | L17: PCEAETER | M17: 2800002180 | N17: ACTIVIDADES DIVERSAS DE SERVICIOS PERSONALES. TINTE, LIMPIEZA EN SECO, LAVADO Y PLANCHADO DE ROPAS HECHAS Y DE PRENDAS Y ARTÍCULOS DEL HOGAR USADOS | R17: 2180 | S17: 2180 | T17: 4472 | W17: 4472 | Z17: 7 | AA17: DE RAFAEL DE RIEGO | AF17: 79 | AG17: 28 | AH17: 28045 | AI17: 912395782 | AL17: 916361328 | AN17: 2288 | AO17: 079 | AP17: CALLE | AQ17: P | AT17: 441286 | AU17: 4472899 | AV17: 07900756 | AW17: S | AZ17: CARGACV | BA17: ESP | BC17: S | BI17: 42530.46 | BK17: 2288 | BL17: 50031820N | BM17: JOSEFA | BN17: 1 | BO17: RODRIGUEZ | BP17: FERNANDEZ | BQ17: RODRIGUEZ FERNANDEZ, JOSEFA | BS17: 37657 | BU17: 0 | BW17: PRUEBAS6 | BX17: 2 | BZ17: PCEAETER | CA17: 99 | CC17: 39785.71 | CD17: 41339.56 | CH17: ESP | CI17: 28 | CJ17: 079 | CK17: Madrid | CL17: 28 | CM17: 79 | CN17: 0796 | CO17: Madrid | CP17: MADRID | CQ17: 900
A18: 10-RCOV-00126.3/2007 | B18: 28-APCA-N-2014/00427 | C18: I | D18: 1784 | E18: 1 | F18: DOMINGO VEGA DOMINGUEZ (TINTE CASABLANCA) | G18: ACTIVIDAD : LAVADO, LIMPIEZA Y TEÑIDO DE PRENDAS TEXTILES Y DE PIEL RESPONSABLE : DOMINGO VEGA DOMINGUEZ DESCRIPCION : Tinte, limpieza en seco, lavado y planchado de ropas hechas y de prendas y artículos del hogar usados | H18: 1915 | L18: PCEAETER | M18: 2800001784 | N18: LAVADO, LIMPIEZA Y TEÑIDO DE PRENDAS TEXTILES Y DE PIEL. TINTE, LIMPIEZA EN SECO, LAVADO Y PLANCHADO DE ROPAS HECHAS Y DE PRENDAS Y ARTÍCULOS DEL HOGAR USADOS | R18: 1784 | S18: 1784 | T18: 3703 | W18: 3703 | Z18: 22 | AA18: DE LA LUNA | AF18: 79 | AG18: 28 | AH18: 28004 | AI18: 915216969 | AL18: 918885348 | AN18: 1915 | AO18: 079 | AP18: CALLE | AQ18: P | AT18: 440089 | AU18: 4474893 | AV18: 07903551 | AW18: S | AZ18: CARGACV | BA18: ESP | BC18: S | BI18: 42530.694 | BK18: 1915 | BL18: 34722422N | BM18: DOMINGO | BN18: 1 | BO18: VEGA | BP18: DOMINGUEZ | BQ18: VEGA DOMINGUEZ, DOMINGO | BS18: 37480 | BU18: 0 | BW18: PRUEBAS6 | BX18: 2 | BZ18: PCEAETER | CA18: 99 | CC18: 39785.71 | CD18: 41339.565 | CH18: ESP | CI18: 28 | CJ18: 079 | CK18: Madrid | CL18: 28 | CM18: 79 | CN18: 0796 | CO18: Madrid | CP18: MADRID | CQ18: 900
A19: 10-RCOV-00438.7/2007 | B19: 28-APCA-N-2014/00603 | C19: I | D19: 1788 | E19: 1 | F19: BENANCIO RODRIGUEZ VIDUEIRA | G19: ACTIVIDAD : LAVADO, LIMPIEZA Y TEÑIDO DE PRENDAS TEXTILES Y DE PIEL RESPONSABLE : BENANCIO RODRIGUEZ VIDUEIRA DESCRIPCION : Tinte, limpieza en seco, lavado y planchado de ropas hechas y de prendas y artículos del hogar usados | H19: 1919 | L19: PCEAETER | M19: 2800001788 | N19: LAVADO, LIMPIEZA Y TEÑIDO DE PRENDAS TEXTILES Y DE PIEL. TINTE, LIMPIEZA EN SECO, LAVADO Y PLANCHADO DE ROPAS HECHAS Y DE PRENDAS Y ARTÍCULOS DEL HOGAR USADOS | R19: 1788 | S19: 1788 | T19: 3711 | W19: 3711 | Z19: 13 | AA19: DEL ACUERDO | AF19: 79 | AG19: 28 | AH19: 28015 | AI19: 915226934 | AL19: 918885348 | AN19: 1919 | AO19: 079 | AP19: CALLE | AQ19: P | AT19: 439915 | AU19: 4475380 | AV19: 07900034 | AW19: S | AZ19: CARGACV | BA19: ESP | BC19: S | BI19: 42530.694 | BK19: 1919 | BL19: 34902451C | BM19: BENANCIO | BN19: 1 | BO19: RODRIGUEZ | BP19: VIDUEIRA | BQ19: RODRIGUEZ VIDUEIRA, BENANCIO | BS19: 37657 | BU19: 0 | BW19: PRUEBAS6 | BX19: 2 | BZ19: PCEAETER | CA19: 99 | CC19: 39785.71 | CD19: 41339.565 | CH19: ESP | CI19: 28 | CJ19: 079 | CK19: Madrid | CL19: 28 | CM19: 79 | CN19: 0796 | CO19: Madrid | CP19: MADRID | CQ19: 900
A20: 10-RCOV-00334.0/2007 | D20: 1718 | E20: 1 | F20: JOSE LUIS GONZALEZ HERRANZ (TINTORERIAS ALTAMIRA) | G20: ACTIVIDAD : LAVADO, LIMPIEZA Y TEÑIDO PRENDAS TEXTILES Y PIEL (TINTORERIA) RESPONSABLE : JOSE LUIS GONZALEZ HERRANZ DESCRIPCION : Lavanderías, tintorerías y servicios similares | H20: 1852 | I20: 2012 | J20: 227 | L20: PCEAETER | M20: 2800001718 | N20: LAVADO, LIMPIEZA Y TEÑIDO PRENDAS TEXTILES Y PIEL (TINTORERIA). LAVANDERÍAS, TINTORERÍAS Y SERVICIOS SIMILARES | R20: 1718 | S20: 1718 | T20: 3574 | W20: 3574 | Z20: 52 | AA20: GENERAL YAGÜE | AF20: 79 | AG20: 28 | AH20: 28020 | AI20: 915710159 | AL20: 914097464 | AN20: 1852 | AO20: 079 | AP20: CALLE | AQ20: P | AT20: 440704 | AU20: 4478733 | AW20: N | AZ20: SUCA | BA20: ESP | BC20: S | BI20: 42530.695 | BK20: 1852 | BL20: 03387174X | BM20: JOSE LUIS | BN20: 1 | BO20: GONZALEZ | BP20: HERRANZ | BQ20: GONZALEZ HERRANZ, JOSE LUIS | BS20: 36161 | BU20: 0 | BW20: PRUEBAS6 | BX20: 2 | BZ20: PCEAETER | CA20: 99 | CC20: 39785.71 | CD20: 41339.565 | CH20: ESP | CI20: 28 | CJ20: 079 | CK20: Madrid | CL20: 28 | CM20: 79 | CN20: 0796 | CO20: Madrid | CP20: MADRID | CQ20: 900
A21: 10-RCOV-00176.4/2007 | B21: 28-APCA-N-2014/00470 | C21: I | D21: 1746 | E21: 1 | F21: SIMON RODRIGUEZ RODRIGUEZ ( TINTORERIA BENIDORM) | G21: ACTIVIDAD : LAVADO, LIMPIEZA Y TEÑIDO DE PRENDAS TEXTILES Y DE PIEL RESPONSABLE : SIMON RODRIGUEZ RODRIGUEZ DESCRIPCION : Tinte, limpieza en seco, lavado y planchado de ropas hechas y de prendas y artículos del hogar usados | H21: 1878 | L21: PCEAETER | M21: 2800001746 | N21: LAVADO, LIMPIEZA Y TEÑIDO DE PRENDAS TEXTILES Y DE PIEL. TINTE, LIMPIEZA EN SECO, LAVADO Y PLANCHADO DE ROPAS HECHAS Y DE PRENDAS Y ARTÍCULOS DEL HOGAR USADOS | R21: 1746 | S21: 1746 | T21: 3628 | W21: 3628 | Z21: 15 | AA21: DE BENIDORM | AF21: 79 | AG21: 28 | AH21: 28017 | AI21: 914042663 | AL21: 918885348 | AN21: 1878 | AO21: 079 | AP21: CALLE | AQ21: P | AT21: 444430 | AU21: 4475816 | AV21: 07900798 | AW21: S | AZ21: CARGACV | BA21: ESP | BC21: S | BI21: 42530.695 | BK21: 1878 | BL21: 34546878G | BM21: SIMON | BN21: 1 | BO21: RODRIGUEZ | BP21: RODRIGUEZ | BQ21: RODRIGUEZ RODRIGUEZ, SIMON | BS21: 37158 | BU21: 0 | BW21: PRUEBAS6 | BX21: 2 | BZ21: PCEAETER | CA21: 99 | CC21: 39785.71 | CD21: 41339.566 | CH21: ESP | CI21: 28 | CJ21: 079 | CK21: Madrid | CL21: 28 | CM21: 79 | CN21: 0796 | CO21: Madrid | CP21: MADRID | CQ21: 900
A22: 10-RCOV-00109.2/2007 | B22: 28-APCA-N-2014/00409 | C22: B | D22: 1661 | E22: 1 | F22: Mª ELIEZER MIRALLES GARCIA | G22: ACTIVIDAD : LAVADO, LIMPIEZA Y TEÑIDO DE PRENDAS TEXTILES Y DE PIEL RESPONSABLE : MARIA ELIEZER MIRALLES GARCIA DESCRIPCION : Tinte, limpieza en seco, lavado y planchado de ropas hechas y de prendas y artículos del hogar usados | H22: 1797 | L22: PCEAETER | M22: 2800001661 | N22: LAVADO, LIMPIEZA Y TEÑIDO DE PRENDAS TEXTILES Y DE PIEL. TINTE, LIMPIEZA EN SECO, LAVADO Y PLANCHADO DE ROPAS HECHAS Y DE PRENDAS Y ARTÍCULOS DEL HOGAR USADOS | R22: 1661 | S22: 1661 | T22: 3462 | W22: 3462 | Z22: 3 | AA22: DEL PUERTO DE MASPALOMAS | AF22: 79 | AG22: 28 | AH22: 28035 | AI22: 913733393 | AL22: 916972000 | AN22: 1797 | AO22: 079 | AP22: CALLE | AQ22: P | AT22: 439447 | AU22: 4481019 | AV22: 07909905 | AW22: S | AZ22: CARGACV | BA22: ESP | BC22: S | BI22: 42530.696 | BK22: 1797 | BL22: 33506738Q | BM22: Mª | BN22: 1 | BO22: ELIEZER | BP22: MIRALLES | BQ22: ELIEZER MIRALLES, Mª | BS22: 38041 | BU22: 0 | BW22: PRUEBAS6 | BX22: 2 | BZ22: PCEAETER | CA22: 99 | CC22: 39785.71 | CD22: 41339.566 | CH22: ESP | CI22: 28 | CJ22: 079 | CK22: Madrid | CL22: 28 | CM22: 79 | CN22: 0796 | CO22: Madrid | CP22: MADRID | CQ22: 900
A23: 10-RCOV-00381.7/2007 | B23: 28-APCA-N-2014/00575 | C23: B | D23: 30883 | E23: 3 | F23: LIMPIEZA DE ALFOMBRAS SHERLIMP SOC. COOP. | H23: 15349 | I23: 2017 | J23: 305 | K23: ECG4 | L23: PCEAETER | M23: 2800030883 | N23: - | R23: 30570 | S23: 30883 | T23: 54174 | U23: ECG4 | V23: ECG4 | W23: 54174 | Z23: 24 | AA23: MOLINEROS | AB23: IND. VALDEFUENTES | AF23: 15 | AG23: 28 | AH23: 28939 | AI23: 916190200 | AL23: 916107177 | AN23: 15349 | AO23: 015 | AP23: CALLE | AQ23: P | AT23: 423252 | AU23: 4461701 | AV23: 01500154 | AW23: N | AY23: ECG4 | AZ23: SUCA | BA23: ESP | BC23: S | BI23: 42531.494 | BK23: 15349 | BL23: F28519296 | BN23: 2 | BQ23: LIMPIEZA DE ALFOMBRAS SHERLIMP SDAD. COOP | BS23: 36161 | BU23: 0 | BW23: PRUEBAS6 | BX23: 1 | BZ23: PCEAETER | CA23: 99 | CC23: 39785.71 | CD23: 41339.605 | CH23: ESP | CI23: 28 | CJ23: 015 | CK23: Arroyomolinos | CL23: 28 | CM23: 15 | CN23: 0151 | CO23: Arroyomolinos | CP23: ARROYOMOLINOS | CQ23: 015
A24: 10-RCOV-00019.2/2010 | B24: 28-APCA-2013/00037 | C24: B | D24: 28332 | E24: 2 | F24: CONSUEGRA, SOC. COOP. MAD. | G24: APLICACION PINTURA_x000D_ CHAPISTERIA DE PRECISION, ESTAMPACION Y UTILLAJE | H24: 15354 | I24: 2003 | J24: 105 | K24: MAG181 | L24: PCEAETER | M24: 2800028332 | N24: - | R24: 28154 | S24: 28332 | T24: 50762 | U24: AGC1279 | V24: AGC1279 | W24: 50762 | Z24: 13 | AA24: DE LAS BODEGAS | AF24: 59 | AG24: 28 | AH24: 28140 | AI24: 916201011 | AN24: 15354 | AO24: 059 | AP24: CMNO | AQ24: P | AT24: 456154 | AU24: 4498644 | AV24: 05900266 | AW24: S | AY24: AGC1279 | AZ24: CARGACV | BA24: ESP | BC24: N | BI24: 42531.475 | BK24: 15354 | BL24: F28641553 | BN24: 2 | BQ24: CONSUEGRA, SOC. COOP. MAD. | BS24: 36384 | BU24: 0 | BW24: PRUEBAS6 | BX24: 1 | BZ24: PCEAETER | CA24: 99 | CC24: 39785.71 | CD24: 41339.605 | CH24: ESP | CI24: 28 | CJ24: 059 | CK24: Fuente el Saz de Jarama | CL24: 28 | CM24: 59 | CN24: 0590 | CO24: Fuente el Saz de Jarama | CP24: FUENTE SAZ JARAMA | CQ24: 059
A25: 10-RCOV-00019.2/2010 | B25: 28-APCA-N-2019/00014 | C25: I | D25: 28332 | E25: 2 | F25: CONSUEGRA, SOC. COOP. MAD. | G25: APLICACION PINTURA_x000D_ CHAPISTERIA DE PRECISION, ESTAMPACION Y UTILLAJE | H25: 15354 | I25: 2003 | J25: 105 | K25: MAG181 | L25: PCEAETER | M25: 2800028332 | N25: - | R25: 28154 | S25: 28332 | T25: 50762 | U25: AGC1279 | V25: AGC1279 | W25: 50762 | Z25: 13 | AA25: DE LAS BODEGAS | AF25: 59 | AG25: 28 | AH25: 28140 | AI25: 916201011 | AN25: 15354 | AO25: 059 | AP25: CMNO | AQ25: P | AT25: 456154 | AU25: 4498644 | AV25: 05900266 | AW25: S | AY25: AGC1279 | AZ25: CARGACV | BA25: ESP | BC25: N | BI25: 42531.475 | BK25: 15354 | BL25: F28641553 | BN25: 2 | BQ25: CONSUEGRA, SOC. COOP. MAD. | BS25: 36384 | BU25: 0 | BW25: PRUEBAS6 | BX25: 1 | BZ25: PCEAETER | CA25: 99 | CC25: 39785.71 | CD25: 41339.605 | CH25: ESP | CI25: 28 | CJ25: 059 | CK25: Fuente el Saz de Jarama | CL25: 28 | CM25: 59 | CN25: 0590 | CO25: Fuente el Saz de Jarama | CP25: FUENTE SAZ JARAMA | CQ25: 059
A26: 10-RCOV-00010.4/2009 | D26: 1639 | E26: 1 | F26: MANUEL HIPOLITO PENAS PARDO | G26: ACTIVIDAD : LIMPIEZA EN SECO DE PRENDAS TEXTILES Y DE PIEL RESPONSABLE : MANUEL HIPOLITO PENAS DESCRIPCION : Tinte, limpieza en seco, lavado y planchado de ropas hechas y de prendas y artículos del hogar usados | H26: 1778 | L26: PCEAETER | M26: 2800001639 | N26: LIMPIEZA EN SECO DE PRENDAS TEXTILES Y DE PIEL. TINTE, LIMPIEZA EN SECO, LAVADO Y PLANCHADO DE ROPAS HECHAS Y DE PRENDAS Y ARTÍCULOS DEL HOGAR USADOS | R26: 1639 | S26: 1639 | T26: 3421 | W26: 3421 | Z26: 100 | AA26: DE CAMARENA | AF26: 79 | AG26: 28 | AH26: 28047 | AI26: 917171089 | AL26: 916972000 | AN26: 1778 | AO26: 079 | AP26: CALLE | AQ26: P | AT26: 435774 | AU26: 4471634 | AV26: 07908719 | AW26: S | AZ26: CARGACV | BA26: ESP | BC26: S | BI26: 42530.697 | BK26: 1778 | BL26: 33186496A | BM26: MANUEL | BN26: 1 | BO26: HIPOLITO | BP26: PENAS | BQ26: HIPOLITO PENAS, MANUEL | BS26: 36389 | BU26: 0 | BW26: PRUEBAS6 | BX26: 2 | BZ26: PCEAETER | CA26: 99 | CC26: 39785.71 | CD26: 41339.567 | CH26: ESP | CI26: 28 | CJ26: 079 | CK26: Madrid | CL26: 28 | CM26: 79 | CN26: 0796 | CO26: Madrid | CP26: MADRID | CQ26: 900
A27: 10-RCOV-00260.8/2007 | D27: 55716 | E27: 2 | F27: ALJAVI LAS MATAS, S.L. | G27: LAVANDERÍAS, TINTORERÍAS Y SERVICIOS SIMILARES | H27: 14575 | I27: 2013 | J27: 186 | K27: BDCA-RPP | L27: PCEAETER | M27: 2800055716 | N27: LAVADO, LIMPIEZA Y TEÑIDO DE PRENDAS TEXTILES Y DE PIEL | R27: 57339 | S27: 55716 | T27: 30757 | U27: BDCA-RPP | W27: 30757 | Z27: 3 | AA27: ALEMANES | AF27: 127 | AG27: 28 | AH27: 28290 | AI27: 916368146 | AL27: 916763747 | AN27: 14575 | AO27: 127 | AP27: PASEO | AQ27: P | AT27: 424145 | AU27: 4489487 | AV27: 12700007 | AW27: S | AZ27: CARGACV | BA27: ESP | BC27: S | BI27: 42530.492 | BK27: 14575 | BL27: B83883009 | BN27: 2 | BQ27: ALJAVI LAS MATAS, S.L. | BS27: 38188 | BU27: 0 | BW27: PRUEBAS6 | BX27: 1 | BZ27: PCEAETER | CA27: 99 | CC27: 39785.71 | CD27: 41339.618 | CH27: ESP | CI27: 28 | CJ27: 127 | CK27: Rozas de Madrid, Las | CL27: 28 | CM27: 127 | CN27: 1277 | CO27: Las Rozas de Madrid | CP27: ROZAS MADRID | CQ27: 127
A28: 10-RCOV-00058.8/2007 | D28: 16109 | E28: 1 | F28: MIMO-SEC TINTORERIAS, S.L.L. | G28: ACTIVIDAD : LAVADO, LIMPIEZA Y TEÑIDO DE PRENDAS TEXTILES Y DE PIEL RESPONSABLE : MARIA ISABEL MORENCOS SEPTIEN DESCRIPCION : Lavanderías, tintorerías y servicios similares | H28: 14502 | L28: JBS37 | M28: 2800016109 | N28: LAVADO, LIMPIEZA Y TEÑIDO DE PRENDAS TEXTILES Y DE PIEL. LAVANDERÍAS, TINTORERÍAS Y SERVICIOS SIMILARES | O28: 41444 | P28: CESE DE ACTIVIDAD (10-AURE-2695.4/2013) | R28: 16109 | S28: 16109 | T28: 30614 | W28: 30614 | Z28: 4 | AA28: DE PALO DE ROSA | AF28: 79 | AG28: 28 | AH28: 28005 | AI28: 915397174 | AL28: 916763747 | AN28: 14502 | AO28: 079 | AP28: CALLE | AQ28: P | AT28: 439999 | AU28: 4472695 | AV28: 07945271 | AW28: S | AZ28: CARGACV | BA28: ESP | BC28: S | BI28: 42530.493 | BK28: 14502 | BL28: B83784132 | BN28: 2 | BQ28: MIMO-SEC TINTORERIAS, S.L.L. | BS28: 38421 | BU28: 0 | BW28: PRUEBAS6 | BX28: 1 | BZ28: PCEAETER | CA28: 99 | CC28: 39785.71 | CD28: 41339.619 | CH28: ESP | CI28: 28 | CJ28: 079 | CK28: Madrid | CL28: 28 | CM28: 79 | CN28: 0796 | CO28: Madrid | CP28: MADRID | CQ28: 900
A29: 10-RCOV-00383.0/2007 | D29: 16126 | E29: 1 | F29: VILLANUEVA LAVASEC, S.L. (TINTORERIA 5 A SEC) | G29: ACTIVIDAD : LAVADO, LIMPIEZA Y TEÑIDO DE PRENDAS TEXTILES Y DE PIEL RESPONSABLE : JOSE MARIA REQUENA OREJANA DESCRIPCION : TINTE, LIMPIEZA EN SECO, LAVADO Y PLANCHADO DE ROPAS HECHAS Y DE PRENDAS Y ARTÍCULOS DEL HOGAR USADOS. AHORA SEGUN 10-INS-253.1/2013 ES LIMPIOYARREGLADO, S.L.U. (CIF B86316338) | H29: 14519 | I29: 2013 | J29: 159 | L29: AGC1279 | M29: 2800016126 | N29: LAVADO, LIMPIEZA Y TEÑIDO DE PRENDAS TEXTILES Y DE PIEL. TINTE, LIMPIEZA EN SECO, LAVADO Y PLANCHADO DE ROPAS HECHAS Y DE PRENDAS Y ARTÍCULOS DEL HOGAR USADOS | R29: 16126 | S29: 16126 | T29: 30648 | W29: 30648 | Z29: 70 | AA29: JUAN CARLOS I | AF29: 177 | AG29: 28 | AH29: 28229 | AI29: 916361398 | AL29: 916763747 | AN29: 14519 | AO29: 177 | AP29: AVDA | AQ29: P | AT29: 418357 | AU29: 4483195 | AV29: 177A0048 | AW29: S | AX29: LOCAL | AZ29: CARGACV | BA29: ESP | BC29: N | BI29: 42530.492 | BK29: 14519 | BL29: B83799379 | BN29: 2 | BQ29: VILLANUEVA LAVASEC, S.L. (TINTORERIA 5 A SEC) | BS29: 38092 | BU29: 0 | BW29: PRUEBAS6 | BX29: 1 | BZ29: PCEAETER | CA29: 99 | CC29: 39785.71 | CD29: 41339.619 | CH29: ESP | CI29: 28 | CJ29: 177 | CK29: Villanueva del Pardillo | CL29: 28 | CM29: 177 | CN29: 1776 | CO29: Villanueva del Pardillo | CP29: VILLANUEVA PARDILLO | CQ29: 177
A30: 10-RCOV-00450.3/2007 | B30: 28-APCA-N-2014/00686 | C30: I | D30: 1486 | E30: 1 | F30: Mª CARMEN MARTIN JURADO (DON TINTE) | G30: ACTIVIDAD : LAVADO, LIMPIEZA Y TEÑIDO DE PRENDAS TEXTILES Y DE PIEL RESPONSABLE : Mª CARMEN MARTIN JURADO DESCRIPCION : Tinte, limpieza en seco, lavado y planchado de ropas hechas y de prendas y artículos del hogar usados | H30: 1630 | L30: PCEAETER | M30: 2800001486 | N30: LAVADO, LIMPIEZA Y TEÑIDO DE PRENDAS TEXTILES Y DE PIEL. TINTE, LIMPIEZA EN SECO, LAVADO Y PLANCHADO DE ROPAS HECHAS Y DE PRENDAS Y ARTÍCULOS DEL HOGAR USADOS | R30: 1486 | S30: 1486 | T30: 3120 | W30: 3120 | Z30: 25 | AA30: DE VIÑUELAS | AF30: 903 | AG30: 28 | AH30: 28760 | AI30: 918040281 | AL30: 914770255 | AN30: 1630 | AO30: 903 | AP30: AVDA | AQ30: P | AT30: 440484 | AU30: 4494208 | AV30: 90300111 | AW30: S | AZ30: CARGACV | BA30: ESP | BC30: S | BI30: 42530.699 | BK30: 1630 | BL30: 02855362G | BM30: MARIA DEL CARMEN | BN30: 1 | BO30: MARTIN | BP30: JURADO | BQ30: MARTIN JURADO, MARIA DEL CARMEN | BS30: 37862 | BU30: 0 | BW30: PRUEBAS6 | BX30: 2 | BZ30: PCEAETER | CA30: 99 | CC30: 39785.71 | CD30: 41339.568 | CH30: ESP | CI30: 28 | CJ30: 903 | CK30: Tres Cantos | CL30: 28 | CM30: 903 | CN30: 9036 | CO30: Tres Cantos | CP30: TRES CANTOS | CQ30: 184
A31: 10-RCOV-00039.5/2007 | D31: 352 | E31: 1 | F31: ATANASIO ALONSO PEÑA | G31: ACTIVIDAD : LAVADO, LIMPIEZA Y TEÑIDO DE PRENDAS TEXTILES Y DE PIEL RESPONSABLE : ATANASIO ALONSO PEÑA DESCRIPCION : Tinte, limpieza en seco, lavado y planchado de ropas hechas y de prendas y artículos del hogar usados | H31: 522 | L31: PCEAETER | M31: 2800000352 | N31: LAVADO, LIMPIEZA Y TEÑIDO DE PRENDAS TEXTILES Y DE PIEL. TINTE, LIMPIEZA EN SECO, LAVADO Y PLANCHADO DE ROPAS HECHAS Y DE PRENDAS Y ARTÍCULOS DEL HOGAR USADOS | R31: 352 | S31: 352 | T31: 878 | W31: 878 | Z31: 37 | AA31: DE SANTA SUSANA | AF31: 79 | AG31: 28 | AH31: 28033 | AI31: 917630434 | AL31: 916175314 | AN31: 522 | AO31: 079 | AP31: CALLE | AQ31: P | AT31: 445151 | AU31: 4481010 | AV31: 07909017 | AW31: S | AZ31: CARGACV | BA31: ESP | BC31: S | BI31: 42531.365 | BK31: 522 | BL31: 13090301N | BM31: ATANASIO | BN31: 1 | BO31: ALONSO | BP31: PEÑA | BQ31: ALONSO PEÑA, ATANASIO | BS31: 36378 | BU31: 0 | BW31: PRUEBAS6 | BX31: 2 | BZ31: PCEAETER | CA31: 99 | CC31: 39785.71 | CD31: 41339.582 | CH31: ESP | CI31: 28 | CJ31: 079 | CK31: Madrid | CL31: 28 | CM31: 79 | CN31: 0796 | CO31: Madrid | CP31: MADRID | CQ31: 900
A32: 10-RCOV-00465.1/2007 | B32: 28-APCA-N-2014/00700 | C32: I | D32: 16882 | E32: 1 | F32: TINTE SAN FERNANDO, C.B. | G32: ACTIVIDAD : LIMPIEZA EN SECO DE PRENDAS DE VESTIR RESPONSABLE : EMILIANA GARCIA PAMPLIEGA DESCRIPCION : | H32: 15252 | L32: PCEAETER | M32: 2800016882 | N32: LIMPIEZA EN SECO DE PRENDAS DE VESTIR. | R32: 16882 | S32: 16882 | T32: 32137 | W32: 32137 | Z32: 18 | AA32: DE RAMÓN Y CAJAL | AF32: 130 | AG32: 28 | AH32: 28830 | AI32: 916710548 | AL32: 913804587 | AN32: 15252 | AO32: 130 | AP32: CALLE | AQ32: P | AT32: 454516 | AU32: 4475228 | AV32: 13000075 | AW32: S | AZ32: CARGACV | BA32: ESP | BC32: S | BI32: 42531.373 | BK32: 15252 | BL32: E82866732 | BN32: 2 | BQ32: TINTE SAN FERNANDO, C.B. | BS32: 36161 | BU32: 0 | BW32: PRUEBAS6 | BX32: 1 | BZ32: PCEAETER | CA32: 99 | CC32: 39785.71 | CD32: 41339.607 | CH32: ESP | CI32: 28 | CJ32: 130 | CK32: San Fernando de Henares | CL32: 28 | CM32: 130 | CN32: 1300 | CO32: San Fernando de Henares | CP32: SAN FERNANDO HENARES | CQ32: 130
A33: 10-RCOV-00059.0/2007 | B33: 28-APCA-N-2014/00363 | C33: I | D33: 308 | E33: 1 | F33: JOSE BLANCO BLANCO (TINTE LOS AMERICANOS) | G33: ACTIVIDAD : LAVADO, LIMPIEZA Y TEÑIDO DE PRENDAS TEXTILES DE PIEL RESPONSABLE : JOSE BLANCO BLANCO DESCRIPCION : Tinte, limpieza en seco, lavado y planchado de ropas hechas y de prendas y artículos del hogar usados | H33: 479 | L33: PCEAETER | M33: 2800000308 | N33: LAVADO, LIMPIEZA Y TEÑIDO DE PRENDAS TEXTILES DE PIEL. TINTE, LIMPIEZA EN SECO, LAVADO Y PLANCHADO DE ROPAS HECHAS Y DE PRENDAS Y ARTÍCULOS DEL HOGAR USADOS | R33: 308 | S33: 308 | T33: 791 | W33: 791 | Z33: 4 | AA33: DE CANILLAS | AF33: 79 | AG33: 28 | AH33: 28002 | AI33: 915610811 | AL33: 916392546 | AN33: 479 | AO33: 079 | AP33: CALLE | AQ33: P | AT33: 442514 | AU33: 4476820 | AV33: 07901033 | AW33: S | AZ33: CARGACV | BA33: ESP | BC33: S | BI33: 42531.365 | BK33: 479 | BL33: 00001241E | BM33: JOSE | BN33: 1 | BO33: BLANCO | BP33: BLANCO | BQ33: BLANCO BLANCO, JOSE | BS33: 37704 | BU33: 0 | BW33: PRUEBAS6 | BX33: 2 | BZ33: PCEAETER | CA33: 99 | CC33: 39785.71 | CD33: 41339.583 | CH33: ESP | CI33: 28 | CJ33: 079 | CK33: Madrid | CL33: 28 | CM33: 79 | CN33: 0796 | CO33: Madrid | CP33: MADRID | CQ33: 900
A34: 10-RCOV-00168.4/2007 | B34: 28-APCA-N-2014/00464 | C34: I | D34: 16856 | E34: 1 | F34: TINTORERIA GELA, C.B. | G34: ACTIVIDAD : LAVADO, LIMPIEZA Y TEÑIDO DE PRENDAS TEXTILES Y DE PIEL RESPONSABLE : ANTONIO NAVAS LEON DESCRIPCION : Tinte, limpieza en seco, lavado y planchado de ropas hechas y de prendas y artículos del hogar usados | H34: 15226 | L34: PCEAETER | M34: 2800016856 | N34: LAVADO, LIMPIEZA Y TEÑIDO DE PRENDAS TEXTILES Y DE PIEL. TINTE, LIMPIEZA EN SECO, LAVADO Y PLANCHADO DE ROPAS HECHAS Y DE PRENDAS Y ARTÍCULOS DEL HOGAR USADOS | R34: 16856 | S34: 16856 | T34: 32085 | W34: 32085 | Z34: 54 | AA34: DE LA REINA VICTORIA | AF34: 79 | AG34: 28 | AH34: 28003 | AI34: 915332549 | AL34: 918955025 | AN34: 15226 | AO34: 079 | AP34: AVDA | AQ34: P | AT34: 439606 | AU34: 4477577 | AV34: 07905140 | AW34: S | AZ34: CARGACV | BA34: ESP | BC34: S | BI34: 42531.373 | BK34: 15226 | BL34: E82526021 | BN34: 2 | BQ34: TINTORERIA GELA, C.B. | BS34: 37840 | BU34: 0 | BW34: PRUEBAS6 | BX34: 1 | BZ34: PCEAETER | CA34: 99 | CC34: 39785.71 | CD34: 41339.608 | CH34: ESP | CI34: 28 | CJ34: 079 | CK34: Madrid | CL34: 28 | CM34: 79 | CN34: 0796 | CO34: Madrid | CP34: MADRID | CQ34: 900
A35: 10-RCOV-00255.2/2007 | D35: 16745 | E35: 1 | F35: ECO-SEC, C.B. | G35: ACTIVIDAD : LAVADO, LIMPIEZA Y TEÑIDO DE PRENDAS TEXTILES Y DE PIEL RESPONSABLE : GREGORIO MANCEBO SAN JULIAN DESCRIPCION : Tinte, limpieza en seco, lavado y planchado de ropas hechas y de prendas y artículos del hogar usados | H35: 15121 | L35: PCEAETER | M35: 2800016745 | N35: LAVADO, LIMPIEZA Y TEÑIDO DE PRENDAS TEXTILES Y DE PIEL. TINTE, LIMPIEZA EN SECO, LAVADO Y PLANCHADO DE ROPAS HECHAS Y DE PRENDAS Y ARTÍCULOS DEL HOGAR USADOS | R35: 16745 | S35: 16745 | T35: 31869 | W35: 31869 | Z35: 5 | AA35: DEL QUINCE DE MAYO | AF35: 79 | AG35: 28 | AH35: 28019 | AI35: 917750313 | AL35: 916094810 | AN35: 15121 | AO35: 079 | AP35: PASEO | AQ35: P | AT35: 439102 | AU35: 4472114 | AV35: 07905047 | AW35: S | AZ35: CARGACV | BA35: ESP | BC35: S | BI35: 42531.375 | BK35: 15121 | BL35: E81494965 | BN35: 2 | BQ35: ECO-SEC, C.B. | BS35: 36383 | BU35: 0 | BW35: PRUEBAS6 | BX35: 1 | BZ35: PCEAETER | CA35: 99 | CC35: 39785.71 | CD35: 41339.609 | CH35: ESP | CI35: 28 | CJ35: 079 | CK35: Madrid | CL35: 28 | CM35: 79 | CN35: 0796 | CO35: Madrid | CP35: MADRID | CQ35: 900
A36: 10-RCOV-00016.7/2007 | D36: 1361 | E36: 1 | F36: RICARDO BLANCO HERVELLA | G36: ACTIVIDAD : LIMPIEZA EN SECO DE PRENDAS TEXTILES Y DE PIEL RESPONSABLE : RICARDO BLANCO HERVELLA DESCRIPCION : Tinte, limpieza en seco, lavado y planchado de ropas hechas y de prendas y artículos del hogar usados | H36: 1507 | L36: PCEAETER | M36: 2800001361 | N36: LIMPIEZA EN SECO DE PRENDAS TEXTILES Y DE PIEL. TINTE, LIMPIEZA EN SECO, LAVADO Y PLANCHADO DE ROPAS HECHAS Y DE PRENDAS Y ARTÍCULOS DEL HOGAR USADOS | R36: 1361 | S36: 1361 | T36: 2872 | W36: 2872 | Z36: 10 | AA36: DE BAYONA | AF36: 79 | AG36: 28 | AH36: 28028 | AI36: 913551168 | AL36: 915436457 | AN36: 1507 | AO36: 079 | AP36: CALLE | AQ36: P | AT36: 443816 | AU36: 4476641 | AV36: 07900762 | AW36: S | AZ36: CARGACV | BA36: ESP | BC36: S | BI36: 42530.7 | BK36: 1507 | BL36: 02698946B | BM36: RICARDO | BN36: 1 | BO36: BLANCO | BP36: HERVELLA | BQ36: BLANCO HERVELLA, RICARDO | BS36: 36382 | BU36: 0 | BW36: PRUEBAS6 | BX36: 2 | BZ36: PCEAETER | CA36: 99 | CC36: 39785.71 | CD36: 41339.57 | CH36: ESP | CI36: 28 | CJ36: 079 | CK36: Madrid | CL36: 28 | CM36: 79 | CN36: 0796 | CO36: Madrid | CP36: MADRID | CQ36: 900
A37: 10-RCOV-00075.0/2007 | B37: 28-APCA-N-2014/00383 | C37: I | D37: 1295 | E37: 1 | F37: FERNANDO MUÑOZ GARCIA (TINTORERIA POZUELO) | G37: ACTIVIDAD : LAVADO, LIMPIEZA Y TEÑIDO DE PRENDAS TEXTILES Y DE PIEL RESPONSABLE : FERNANDO MUÑOZ GARCIA DESCRIPCION : Tinte, limpieza en seco, lavado y planchado de ropas hechas y de prendas y artículos del hogar usados | H37: 1441 | L37: PCEAETER | M37: 2800001295 | N37: LAVADO, LIMPIEZA Y TEÑIDO DE PRENDAS TEXTILES Y DE PIEL. TINTE, LIMPIEZA EN SECO, LAVADO Y PLANCHADO DE ROPAS HECHAS Y DE PRENDAS Y ARTÍCULOS DEL HOGAR USADOS | R37: 1295 | S37: 1295 | T37: 2740 | W37: 2740 | Z37: 2 | AA37: FLORES | AF37: 115 | AG37: 28 | AH37: 28223 | AI37: 913527308 | AL37: 913141141 | AN37: 1441 | AO37: 115 | AP37: CALLE | AQ37: P | AT37: 431047 | AU37: 4476422 | AV37: 115A0284 | AW37: S | AZ37: CARGACV | BA37: ESP | BC37: S | BI37: 42530.701 | BK37: 1441 | BL37: 02621427W | BM37: FERNANDO | BN37: 1 | BO37: MUÑOZ | BP37: GARCIA | BQ37: MUÑOZ GARCIA, FERNANDO | BS37: 38063 | BU37: 0 | BW37: PRUEBAS6 | BX37: 2 | BZ37: PCEAETER | CA37: 99 | CC37: 39785.71 | CD37: 41339.571 | CH37: ESP | CI37: 28 | CJ37: 115 | CK37: Pozuelo de Alarcón | CL37: 28 | CM37: 115 | CN37: 1150 | CO37: Pozuelo de Alarcón | CP37: POZUELO ALARCÓN | CQ37: 115
A38: 10-RCOV-00253.0/2007 | D38: 143 | E38: 1 | F38: FERNANDO SANCHEZ MELLADO (TINTORERIA MAVI) | G38: ACTIVIDAD : LAVADO, LIMPIEZA Y TEÑIDO DE PRENDAS TEXTILES Y DE PIEL RESPONSABLE : FERNANDO SANCHEZ MELLADO DESCRIPCION : Tinte, limpieza en seco, lavado y planchado de ropas hechas y de prendas y artículos del hogar usados | H38: 319 | L38: PCEAETER | M38: 2800000143 | N38: LAVADO, LIMPIEZA Y TEÑIDO DE PRENDAS TEXTILES Y DE PIEL. TINTE, LIMPIEZA EN SECO, LAVADO Y PLANCHADO DE ROPAS HECHAS Y DE PRENDAS Y ARTÍCULOS DEL HOGAR USADOS | R38: 143 | S38: 143 | T38: 466 | W38: 466 | Z38: 33 | AA38: DE NUESTRA SEÑORA DE FÁTIMA | AF38: 79 | AG38: 28 | AH38: 28047 | AI38: 914619638 | AL38: 915093768 | AN38: 319 | AO38: 079 | AP38: AVDA | AQ38: P | AT38: 436685 | AU38: 4470757 | AV38: 07904338 | AW38: S | AZ38: CARGACV | BA38: ESP | BC38: S | BI38: 42531.368 | BK38: 319 | BL38: 00113071A | BM38: FERNANDO | BN38: 1 | BO38: SANCHEZ | BP38: MELLADO | BQ38: SANCHEZ MELLADO, FERNANDO | BS38: 37706 | BU38: 0 | BW38: PRUEBAS6 | BX38: 2 | BZ38: PCEAETER | CA38: 99 | CC38: 39785.71 | CD38: 41339.585 | CH38: ESP | CI38: 28 | CJ38: 079 | CK38: Madrid | CL38: 28 | CM38: 79 | CN38: 0796 | CO38: Madrid | CP38: MADRID | CQ38: 900
A39: 10-RCOV-00129.6/2007 | D39: 16653 | E39: 2 | F39: TINTORERIAS EL BARCO, C.B. | G39: ACTIVIDAD : LAVADO, LIMPIEZA Y TEÑIDO DE PRENDAS TEXTILES Y DE PIEL RESPONSABLE : JOSE IZQUIERDO DESCRIPCION : Tinte, limpieza en seco, lavado y planchado de ropas hechas y de prendas y artículos del hogar usados | H39: 15033 | L39: PCEAETER | M39: 2800016653 | N39: LAVADO, LIMPIEZA Y TEÑIDO DE PRENDAS TEXTILES Y DE PIEL. TINTE, LIMPIEZA EN SECO, LAVADO Y PLANCHADO DE ROPAS HECHAS Y DE PRENDAS Y ARTÍCULOS DEL HOGAR USADOS | R39: 16653 | S39: 16653 | T39: 31689 | W39: 31689 | Z39: 3 | AA39: DE PEDRO LABORDE | AF39: 79 | AG39: 28 | AH39: 28038 | AI39: 913031305 | AL39: 918130786 | AM39: TINTORERIASELBARCO2@GMAIL.COM | AN39: 15033 | AO39: 079 | AP39: CALLE | AQ39: P | AT39: 445093 | AU39: 4471227 | AV39: 07904619 | AW39: S | AZ39: PFF20 | BA39: ESP | BC39: S | BI39: 44840 | BK39: 15033 | BL39: E80498389 | BN39: 2 | BQ39: TINTORERIAS EL BARCO, C.B. | BS39: 37482 | BU39: 0 | BW39: PRUEBAS6 | BX39: 1 | BZ39: PCEAETER | CA39: 99 | CC39: 39785.71 | CD39: 41339.61 | CH39: ESP | CI39: 28 | CJ39: 079 | CK39: Madrid | CL39: 28 | CM39: 79 | CN39: 0796 | CO39: Madrid | CP39: MADRID | CQ39: 900
A40: 10-RCOV-00105.7/2007 | B40: 28-APCA-N-2014/00407 | C40: I | D40: 16652 | E40: 1 | F40: TINTORERIAS EL BARCO, C.B. | G40: ACTIVIDAD : LAVADO, LIMPIEZA Y TEÑIDO DE PRENDAS TEXTILES Y DE PIEL RESPONSABLE : SANTIAGO IZQUIERDO DESCRIPCION : Tinte, limpieza en seco, lavado y planchado de ropas hechas y de prendas y artículos del hogar usados | H40: 15033 | L40: PCEAETER | M40: 2800016652 | N40: LAVADO, LIMPIEZA Y TEÑIDO DE PRENDAS TEXTILES Y DE PIEL. TINTE, LIMPIEZA EN SECO, LAVADO Y PLANCHADO DE ROPAS HECHAS Y DE PRENDAS Y ARTÍCULOS DEL HOGAR USADOS | R40: 16652 | S40: 16652 | T40: 53223 | W40: 53223 | Z40: 25 | AA40: DEL RÍO DE LA PLATA | AF40: 79 | AG40: 28 | AH40: 28018 | AI40: 913031305 | AM40: TINTORERIASELBARCO2@GMAIL.COM | AN40: 15033 | AO40: 079 | AP40: CALLE | AQ40: P | AT40: 444726 | AU40: 4470881 | AV40: 07940063 | AW40: S | AY40: ABH9 | AZ40: PFF20 | BA40: ESP | BC40: N | BI40: 44840 | BK40: 15033 | BL40: E80498389 | BN40: 2 | BQ40: TINTORERIAS EL BARCO, C.B. | BS40: 37482 | BU40: 0 | BW40: PRUEBAS6 | BX40: 1 | BZ40: PCEAETER | CA40: 99 | CC40: 39785.71 | CD40: 41339.61 | CH40: ESP | CI40: 28 | CJ40: 079 | CK40: Madrid | CL40: 28 | CM40: 79 | CN40: 0796 | CO40: Madrid | CP40: MADRID | CQ40: 900
...

Sheet DATOS INDUSTRIAS 2024
A1: N_Registro | B1: Nº APCA | C1: Epigrafe | D1: R_Social | E1: Consumo_disolvente (kg/año)
A2: 10-RCOV-00001.1/2010 | B2: =VLOOKUP($A$2:$A$53,Sheet1!$A$1:$F$1023,2,FALSE) -> 28-APCA-2014/00035 | C2: 17 | D2: REVESTIMIENTOS INDUSTRIALES, S.A. | E2: 448212
A3: 10-RCOV-00001.1/2016 | B3: =VLOOKUP($A$2:$A$53,Sheet1!$A$1:$F$1023,2,FALSE) -> 28-APCA-N-2015/00178 | C3: 3 | D3: INTRAPAPEL, S.A. | E3: 107989
A4: 10-RCOV-00001.2/2022 | B4: =VLOOKUP($A$2:$A$53,Sheet1!$A$1:$F$1023,2,FALSE) -> 28-APCA-N-2021/00134 | C4: 8 | D4: SIDERÚRGICA REQUENA, S.A. | E4: 3147
A5: 10-RCOV-00002.2/2016 | B5: =VLOOKUP($A$2:$A$53,Sheet1!$A$1:$F$1023,2,FALSE) -> 28-APCA-2015/00013 | C5: 1 | D5: MONTERREINA COMUNICACIÓN, S.L.U. | E5: 3765
A6: 10-RCOV-00003.1/2020 | B6: =VLOOKUP($A$2:$A$53,Sheet1!$A$1:$F$1023,2,FALSE) -> 28-APCA-N-2019/00020 | C6: 5 | D6: ACITURRI GETAFE, S.L. | E6: 3822
A7: 10-RCOV-00003.4/2022 | B7: =VLOOKUP($A$2:$A$53,Sheet1!$A$1:$F$1023,2,FALSE) -> 28-APCA-2022/00013 | C7: 17 | D7: RALVA, S.L.U. | E7: 1985797
A8: 10-RCOV-00004.4/2019 | B8: =VLOOKUP($A$2:$A$53,Sheet1!$A$1:$F$1023,2,FALSE) -> 28-APCA-2019/00023 | C8: 17 | D8: REVOCOAT IBERICA, S.L.U. | E8: 562000
A9: 10-RCOV-00007.1/2015 | B9: =VLOOKUP($A$2:$A$53,Sheet1!$A$1:$F$1023,2,FALSE) -> 28-APCA-N-2023/00099 | C9: 16 | D9: HUTCHINSON INDUSTRIAS DEL CAUCHO | E9: 3623
A10: 10-RCOV-00007.5/2020 | B10: =VLOOKUP($A$2:$A$53,Sheet1!$A$1:$F$1023,2,FALSE) -> 28-APCA-N-2019/00009 | C10: 10 | D10: RODAPIES ROYMA, S.L | E10: 28840
A11: 10-RCOV-00010.6/2021 | B11: =VLOOKUP($A$2:$A$53,Sheet1!$A$1:$F$1023,2,FALSE) -> 28-APCA-XX-20191028-01 | C11: 5 | D11: TRANSERVI, S.A. | E11: 4409
